BEGIN:VCALENDAR
VERSION:2.0
PRODID:-//Alliance Française de Louisville - ECPv6.15.17.1//NONSGML v1.0//EN
CALSCALE:GREGORIAN
METHOD:PUBLISH
X-WR-CALNAME:Alliance Française de Louisville
X-ORIGINAL-URL:https://aflouisville.org
X-WR-CALDESC:Events for Alliance Française de Louisville
REFRESH-INTERVAL;VALUE=DURATION:PT1H
X-Robots-Tag:noindex
X-PUBLISHED-TTL:PT1H
BEGIN:VTIMEZONE
TZID:UTC
BEGIN:STANDARD
TZOFFSETFROM:+0000
TZOFFSETTO:+0000
TZNAME:UTC
DTSTART:20220101T000000
END:STANDARD
END:VTIMEZONE
BEGIN:VEVENT
DTSTART;TZID=UTC:20230307T190000
DTEND;TZID=UTC:20230307T203000
DTSTAMP:20260421T041917
CREATED:20230208T202410Z
LAST-MODIFIED:20230228T221418Z
UID:1564-1678215600-1678221000@aflouisville.org
SUMMARY:Ciné-concert | "En plein dans l'oeil"
DESCRIPTION:A one-of-a-kind\, live music screening\, En plein dans l’œil (Right in The Eye)\, is a creation by Jean-François Alcoléa based on Georges Méliès cinematographic works. \nPresenting 12 films by French director Georges Méliès (1861-1938)\, the show presents a modern rendition of the poetic and playful universe of Georges Méliès by aptly serving both its images and its narrative. \nThis event is co-sponsored by the University of Louisville Department of Classical & Modern Languages\, the Alliance Française de Louisville\, and the Louisville Children’s Film Festival. \nFunded in part by a grant from South Arts in partnership with the National Endowment for the Arts. \nAdmittance: $20 donation request to Alliance Française de Louisville \nDONATE
URL:https://aflouisville.org/event/cine-concert-en-plein-dans-loeil/
LOCATION:Speed Museum Cinema\, 2035 S. 3rd Street\, Louisville\, KY\, 40208\, United States
CATEGORIES:Art & Design
ATTACH;FMTTYPE=image/jpeg:https://aflouisville.org/wp-content/uploads/2023/02/RITE-Poster-copy.jpg
END:VEVENT
END:VCALENDAR