BEGIN:VCALENDAR
VERSION:2.0
PRODID:-//Alliance Française de Louisville - ECPv6.15.17.1//NONSGML v1.0//EN
CALSCALE:GREGORIAN
METHOD:PUBLISH
X-ORIGINAL-URL:https://aflouisville.org
X-WR-CALDESC:Events for Alliance Française de Louisville
REFRESH-INTERVAL;VALUE=DURATION:PT1H
X-Robots-Tag:noindex
X-PUBLISHED-TTL:PT1H
BEGIN:VTIMEZONE
TZID:America/Halifax
BEGIN:DAYLIGHT
TZOFFSETFROM:-0400
TZOFFSETTO:-0300
TZNAME:ADT
DTSTART:20220313T060000
END:DAYLIGHT
BEGIN:STANDARD
TZOFFSETFROM:-0300
TZOFFSETTO:-0400
TZNAME:AST
DTSTART:20221106T050000
END:STANDARD
BEGIN:DAYLIGHT
TZOFFSETFROM:-0400
TZOFFSETTO:-0300
TZNAME:ADT
DTSTART:20230312T060000
END:DAYLIGHT
BEGIN:STANDARD
TZOFFSETFROM:-0300
TZOFFSETTO:-0400
TZNAME:AST
DTSTART:20231105T050000
END:STANDARD
BEGIN:DAYLIGHT
TZOFFSETFROM:-0400
TZOFFSETTO:-0300
TZNAME:ADT
DTSTART:20240310T060000
END:DAYLIGHT
BEGIN:STANDARD
TZOFFSETFROM:-0300
TZOFFSETTO:-0400
TZNAME:AST
DTSTART:20241103T050000
END:STANDARD
END:VTIMEZONE
BEGIN:VEVENT
DTSTART;TZID=America/Halifax:20231013T183000
DTEND;TZID=America/Halifax:20231013T183000
DTSTAMP:20260421T041115
CREATED:20230808T214159Z
LAST-MODIFIED:20231006T014239Z
UID:2114-1697221800-1697221800@aflouisville.org
SUMMARY:AFL Annual Dinner 2023
DESCRIPTION:Annual Dinner  \n Register Here! \n$85 per person \nFriday | 6:30 pm \nOctober 13th\, 2023 \n  \nGuest Speaker: \nMandela Gapala \nBridging Boarders as \nGlobal Citizen \n  \nCocktails |  6:30 \nDinner & Wine | 7:15 \nBrasserie Provence \n150 North Hurstbourne Pkwy \n  \nCall 502.420.0800 or email afschool@bellsouth for more information
URL:https://aflouisville.org/event/afl-annual-dinner-2023/
LOCATION:Brasserie Provence\, 150 N Hurstbourne Pkwy\, Louisville\, KY\, 40222\, United States
END:VEVENT
END:VCALENDAR