BEGIN:VCALENDAR
VERSION:2.0
PRODID:-//Alliance Française de Louisville - ECPv6.15.17.1//NONSGML v1.0//EN
CALSCALE:GREGORIAN
METHOD:PUBLISH
X-ORIGINAL-URL:https://aflouisville.org
X-WR-CALDESC:Events for Alliance Française de Louisville
REFRESH-INTERVAL;VALUE=DURATION:PT1H
X-Robots-Tag:noindex
X-PUBLISHED-TTL:PT1H
BEGIN:VTIMEZONE
TZID:America/New_York
BEGIN:DAYLIGHT
TZOFFSETFROM:-0500
TZOFFSETTO:-0400
TZNAME:EDT
DTSTART:20220313T070000
END:DAYLIGHT
BEGIN:STANDARD
TZOFFSETFROM:-0400
TZOFFSETTO:-0500
TZNAME:EST
DTSTART:20221106T060000
END:STANDARD
BEGIN:DAYLIGHT
TZOFFSETFROM:-0500
TZOFFSETTO:-0400
TZNAME:EDT
DTSTART:20230312T070000
END:DAYLIGHT
BEGIN:STANDARD
TZOFFSETFROM:-0400
TZOFFSETTO:-0500
TZNAME:EST
DTSTART:20231105T060000
END:STANDARD
BEGIN:DAYLIGHT
TZOFFSETFROM:-0500
TZOFFSETTO:-0400
TZNAME:EDT
DTSTART:20240310T070000
END:DAYLIGHT
BEGIN:STANDARD
TZOFFSETFROM:-0400
TZOFFSETTO:-0500
TZNAME:EST
DTSTART:20241103T060000
END:STANDARD
END:VTIMEZONE
BEGIN:VEVENT
DTSTART;VALUE=DATE:20231209
DTEND;VALUE=DATE:20231217
DTSTAMP:20260419T213422
CREATED:20230118T022629Z
LAST-MODIFIED:20230118T022629Z
UID:1514-1702080000-1702771199@aflouisville.org
SUMMARY:Explore the Dordogne with AFL
DESCRIPTION:An adventure you will never forget!\nExplore The Dordogne with Alliance Française de Louisville from December 9th – December 16th\, 2023! \nWhat to Expect:\nIndulge in an authentic French experience in this gorgeous region of France. During this wonderful stay you will learn about the area’s rich history\, learn French with AFL’s guide\, and marvel at the beautiful sights all around! Only 8 spaces are available. \nWhy You Should Join Us:\nCreate unforgettable memories on this 7-day trip to the region of Armagnac and Cassoulet while exploring the stunning surroundings of the Dordogne and savoring traditional French gastronomy! \nOur Travel Itinerary:\nDay 1: Arrival in Bourdeilles \nDay 2-7: Visits are TBD but may include the Perigueux Christmas Market\, other local markets\, the Castles of Beynac\, Castlenaud\, Marqueyssac\, the Abbey de Brantome\, the village of Sarlat\, and more… \nDay 8: Departure \nPricing:\nThe price is $1\,950 per person for double occupancy.\nA $1\,500 supplement will reserve you a single room. \nThe pricing above includes breakfast\, lunch\, and dinner each day. Transportation to and from Angoulême is not included. \nDeadlines:\nExpressions of Interest must be made by February 25\, 2023.\nDeposits are due by March 15\, 2023. \nTo add your name to the list of interested travelers\, please contact Alliance Française de Louisville at afschool@bellsouth.net or by calling (502) 420-0800.
URL:https://aflouisville.org/event/explore-the-dordogne-with-afl/
LOCATION:The Dordogne\, France
CATEGORIES:Travel
ATTACH;FMTTYPE=image/png:https://aflouisville.org/wp-content/uploads/2023/01/Explore-The-Dordogne-with-AFL.png
END:VEVENT
END:VCALENDAR