BEGIN:VCALENDAR
VERSION:2.0
PRODID:-//Alliance Française de Louisville - ECPv6.15.17.1//NONSGML v1.0//EN
CALSCALE:GREGORIAN
METHOD:PUBLISH
X-ORIGINAL-URL:https://aflouisville.org
X-WR-CALDESC:Events for Alliance Française de Louisville
REFRESH-INTERVAL;VALUE=DURATION:PT1H
X-Robots-Tag:noindex
X-PUBLISHED-TTL:PT1H
BEGIN:VTIMEZONE
TZID:America/Halifax
BEGIN:DAYLIGHT
TZOFFSETFROM:-0400
TZOFFSETTO:-0300
TZNAME:ADT
DTSTART:20230312T060000
END:DAYLIGHT
BEGIN:STANDARD
TZOFFSETFROM:-0300
TZOFFSETTO:-0400
TZNAME:AST
DTSTART:20231105T050000
END:STANDARD
BEGIN:DAYLIGHT
TZOFFSETFROM:-0400
TZOFFSETTO:-0300
TZNAME:ADT
DTSTART:20240310T060000
END:DAYLIGHT
BEGIN:STANDARD
TZOFFSETFROM:-0300
TZOFFSETTO:-0400
TZNAME:AST
DTSTART:20241103T050000
END:STANDARD
BEGIN:DAYLIGHT
TZOFFSETFROM:-0400
TZOFFSETTO:-0300
TZNAME:ADT
DTSTART:20250309T060000
END:DAYLIGHT
BEGIN:STANDARD
TZOFFSETFROM:-0300
TZOFFSETTO:-0400
TZNAME:AST
DTSTART:20251102T050000
END:STANDARD
END:VTIMEZONE
BEGIN:VEVENT
DTSTART;TZID=America/Halifax:20240114T140000
DTEND;TZID=America/Halifax:20240114T160000
DTSTAMP:20260422T102032
CREATED:20231221T233841Z
LAST-MODIFIED:20231221T234930Z
UID:2695-1705240800-1705248000@aflouisville.org
SUMMARY:Fête des Rois
DESCRIPTION:Celebrate la Fête des Rois on January 14th with Alliance Française de Louisville. \n  \nTaste traditional galette des rois and enjoy the festivities of the this French holiday. Will you find the fève? \n  \nREGISTER HERE  \n  \n$5 Members | $10 Non-Members \n  \nInterested in learning how to make this sweet holiday treat? Register for our Galette des Rois Cooking Class with Julien Marechaux!
URL:https://aflouisville.org/event/fete-des-rois/
LOCATION:Alliance Française de Louisville : Office\, 1313 Lyndon Ln\, Suite 111\, Louisville\, KY\, 40222
CATEGORIES:Culture & Holiday
ATTACH;FMTTYPE=image/png:https://aflouisville.org/wp-content/uploads/2023/12/Maroon-Beige-Illustrated-Three-Kings-Greeting-Instagram-Post-1.png
END:VEVENT
END:VCALENDAR