BEGIN:VCALENDAR
VERSION:2.0
PRODID:-//Alliance Française de Louisville - ECPv6.15.17.1//NONSGML v1.0//EN
CALSCALE:GREGORIAN
METHOD:PUBLISH
X-ORIGINAL-URL:https://aflouisville.org
X-WR-CALDESC:Events for Alliance Française de Louisville
REFRESH-INTERVAL;VALUE=DURATION:PT1H
X-Robots-Tag:noindex
X-PUBLISHED-TTL:PT1H
BEGIN:VTIMEZONE
TZID:America/New_York
BEGIN:DAYLIGHT
TZOFFSETFROM:-0500
TZOFFSETTO:-0400
TZNAME:EDT
DTSTART:20230312T070000
END:DAYLIGHT
BEGIN:STANDARD
TZOFFSETFROM:-0400
TZOFFSETTO:-0500
TZNAME:EST
DTSTART:20231105T060000
END:STANDARD
BEGIN:DAYLIGHT
TZOFFSETFROM:-0500
TZOFFSETTO:-0400
TZNAME:EDT
DTSTART:20240310T070000
END:DAYLIGHT
BEGIN:STANDARD
TZOFFSETFROM:-0400
TZOFFSETTO:-0500
TZNAME:EST
DTSTART:20241103T060000
END:STANDARD
BEGIN:DAYLIGHT
TZOFFSETFROM:-0500
TZOFFSETTO:-0400
TZNAME:EDT
DTSTART:20250309T070000
END:DAYLIGHT
BEGIN:STANDARD
TZOFFSETFROM:-0400
TZOFFSETTO:-0500
TZNAME:EST
DTSTART:20251102T060000
END:STANDARD
END:VTIMEZONE
BEGIN:VEVENT
DTSTART;TZID=America/New_York:20240121T133000
DTEND;TZID=America/New_York:20240121T150000
DTSTAMP:20260422T102032
CREATED:20240116T225908Z
LAST-MODIFIED:20240116T230016Z
UID:2873-1705843800-1705849200@aflouisville.org
SUMMARY:French for Travelers Class Starts!
DESCRIPTION:REGISTER HERE !
URL:https://aflouisville.org/event/french-for-travelers-class-starts/
LOCATION:KY
CATEGORIES:Culture & Holiday,Travel
END:VEVENT
BEGIN:VEVENT
DTSTART;TZID=America/New_York:20240121T160000
DTEND;TZID=America/New_York:20240121T170000
DTSTAMP:20260422T102032
CREATED:20240109T223548Z
LAST-MODIFIED:20240109T223833Z
UID:2821-1705852800-1705856400@aflouisville.org
SUMMARY:Conversation Group
DESCRIPTION:French Conversation Group\n  \nInformal French conversation group that will meet Sundays\, 4-5pm at Awry Brewery\, beginning January 21st. Lead by native French speaker\, Myriam Mattsson\, these meetings are free for all AFL members and no registration is required. \n  \nAttendees 21+
URL:https://aflouisville.org/event/conversation-group/
LOCATION:Awry Brewery\, 1025 Barret Ave\, Louisville\, 40204\, United States
ATTACH;FMTTYPE=image/png:https://aflouisville.org/wp-content/uploads/2024/01/French-Conversation-Group.png
END:VEVENT
END:VCALENDAR