BEGIN:VCALENDAR
VERSION:2.0
PRODID:-//Alliance Française de Louisville - ECPv6.15.17.1//NONSGML v1.0//EN
CALSCALE:GREGORIAN
METHOD:PUBLISH
X-ORIGINAL-URL:https://aflouisville.org
X-WR-CALDESC:Events for Alliance Française de Louisville
REFRESH-INTERVAL;VALUE=DURATION:PT1H
X-Robots-Tag:noindex
X-PUBLISHED-TTL:PT1H
BEGIN:VTIMEZONE
TZID:America/Kentucky/Louisville
BEGIN:DAYLIGHT
TZOFFSETFROM:-0500
TZOFFSETTO:-0400
TZNAME:EDT
DTSTART:20230312T070000
END:DAYLIGHT
BEGIN:STANDARD
TZOFFSETFROM:-0400
TZOFFSETTO:-0500
TZNAME:EST
DTSTART:20231105T060000
END:STANDARD
BEGIN:DAYLIGHT
TZOFFSETFROM:-0500
TZOFFSETTO:-0400
TZNAME:EDT
DTSTART:20240310T070000
END:DAYLIGHT
BEGIN:STANDARD
TZOFFSETFROM:-0400
TZOFFSETTO:-0500
TZNAME:EST
DTSTART:20241103T060000
END:STANDARD
BEGIN:DAYLIGHT
TZOFFSETFROM:-0500
TZOFFSETTO:-0400
TZNAME:EDT
DTSTART:20250309T070000
END:DAYLIGHT
BEGIN:STANDARD
TZOFFSETFROM:-0400
TZOFFSETTO:-0500
TZNAME:EST
DTSTART:20251102T060000
END:STANDARD
END:VTIMEZONE
BEGIN:VEVENT
DTSTART;TZID=America/Kentucky/Louisville:20240324T160000
DTEND;TZID=America/Kentucky/Louisville:20240324T170000
DTSTAMP:20260422T131902
CREATED:20240228T034548Z
LAST-MODIFIED:20240307T025921Z
UID:3100-1711296000-1711299600@aflouisville.org
SUMMARY:Conversation Group
DESCRIPTION:French Conversation Group\nEvery Other Sunday 4-5pm at Awry Brewery \nInformal French conversation group that will meet every other Sunday\, 4-5pm at Awry Brewery (next meetings will be 3/10 and 3/24). Lead by native French speaker\, Myriam Mattsson\, these meetings are free for all AFL members and no registration is required. \nNot yet a member? Learn more about AFL Membership or reach out to afschool@bellsouth.net for more info.
URL:https://aflouisville.org/event/conversation-group-7/
LOCATION:Awry Brewery\, 1025 Barret Ave\, Louisville\, 40204\, United States
CATEGORIES:Conversation Groups
ATTACH;FMTTYPE=image/png:https://aflouisville.org/wp-content/uploads/2024/02/11-e1714065232300.png
END:VEVENT
END:VCALENDAR