BEGIN:VCALENDAR
VERSION:2.0
PRODID:-//Alliance Française de Louisville - ECPv6.15.17.1//NONSGML v1.0//EN
CALSCALE:GREGORIAN
METHOD:PUBLISH
X-WR-CALNAME:Alliance Française de Louisville
X-ORIGINAL-URL:https://aflouisville.org
X-WR-CALDESC:Events for Alliance Française de Louisville
REFRESH-INTERVAL;VALUE=DURATION:PT1H
X-Robots-Tag:noindex
X-PUBLISHED-TTL:PT1H
BEGIN:VTIMEZONE
TZID:America/Kentucky/Louisville
BEGIN:DAYLIGHT
TZOFFSETFROM:-0500
TZOFFSETTO:-0400
TZNAME:EDT
DTSTART:20230312T070000
END:DAYLIGHT
BEGIN:STANDARD
TZOFFSETFROM:-0400
TZOFFSETTO:-0500
TZNAME:EST
DTSTART:20231105T060000
END:STANDARD
BEGIN:DAYLIGHT
TZOFFSETFROM:-0500
TZOFFSETTO:-0400
TZNAME:EDT
DTSTART:20240310T070000
END:DAYLIGHT
BEGIN:STANDARD
TZOFFSETFROM:-0400
TZOFFSETTO:-0500
TZNAME:EST
DTSTART:20241103T060000
END:STANDARD
BEGIN:DAYLIGHT
TZOFFSETFROM:-0500
TZOFFSETTO:-0400
TZNAME:EDT
DTSTART:20250309T070000
END:DAYLIGHT
BEGIN:STANDARD
TZOFFSETFROM:-0400
TZOFFSETTO:-0500
TZNAME:EST
DTSTART:20251102T060000
END:STANDARD
END:VTIMEZONE
BEGIN:VEVENT
DTSTART;TZID=America/Kentucky/Louisville:20240407T160000
DTEND;TZID=America/Kentucky/Louisville:20240407T170000
DTSTAMP:20260422T150145
CREATED:20240305T215759Z
LAST-MODIFIED:20240314T181602Z
UID:3130-1712505600-1712509200@aflouisville.org
SUMMARY:Speaker Series: The Real Cyrano de Bergerac
DESCRIPTION:The Real Cyrano de Bergerac\nPresented by Carol Mackay \nFree for Members | $10 for Non-Members*            REGISTER BELOW \nSunday\, April 7th\, 4:00 – 5:00 PM \n  \nCyrano de Bergerac was a Parisian writer who lived to age thirty-six in seventeenth century France.  He wrote what were perhaps the most daring works of the century\, becoming a precursor of the Enlightenment who championed the new science and challenged all the repressive hierarchies of his day.  His best known works are the witty\, humorous\, and futuristic Imaginary Voyages to the Moon and the Sun\, which became a model for the philosophical voyages of the eighteenth century.  In addition to discussing his life and times\, we will also explore what it was about Cyrano that inspired one of the world’s most enduring and beloved plays. \n\n← Back Thank you for your response. ✨\n\n\n					\n						\n							\n							\n						\n						\n						\n						\n						\n							\n								\n									\n										\n										\n									\n									\n										\n										\n									\n								\n							\n						\n						\n							\n								\n									\n									\n										\n									\n									\n									\n								\n							\n						\n					\n				\n\n\n\nName(required)\n\n \n			\n				\n					\n						\n						\n						\n					\n				\n				\n			 \n	\n\n\nEmail(required)\n\n \n			\n				\n					\n						\n						\n						\n					\n				\n				\n			 \n	\n\n\nSelect one:\n I am an AFL member and will be attending this event. I am not an AFL member and will be attending this event. ($10)\n			\n				\n					\n						\n						\n						\n					\n				\n				\n				\n	\n\n				\n					\n				\n						Submit		\n		\n		\n	 \nΔ \n\n*Non-member attendees will be responsible for making this payment prior to the presentation. This can be done the day of the event or at this link.
URL:https://aflouisville.org/event/speaker-series-the-real-cyrano-de-bergerac/
LOCATION:Alliance Française de Louisville : Office\, 1313 Lyndon Ln\, Suite 111\, Louisville\, KY\, 40222
CATEGORIES:Literature,Speaker Series
ATTACH;FMTTYPE=image/png:https://aflouisville.org/wp-content/uploads/2024/03/Speaker-Series-The-Real-Cyrano-de-Bergerac-1120-x-630-px.png
END:VEVENT
END:VCALENDAR