BEGIN:VCALENDAR
VERSION:2.0
PRODID:-//Alliance Française de Louisville - ECPv6.15.17.1//NONSGML v1.0//EN
CALSCALE:GREGORIAN
METHOD:PUBLISH
X-WR-CALNAME:Alliance Française de Louisville
X-ORIGINAL-URL:https://aflouisville.org
X-WR-CALDESC:Events for Alliance Française de Louisville
REFRESH-INTERVAL;VALUE=DURATION:PT1H
X-Robots-Tag:noindex
X-PUBLISHED-TTL:PT1H
BEGIN:VTIMEZONE
TZID:America/Kentucky/Louisville
BEGIN:DAYLIGHT
TZOFFSETFROM:-0500
TZOFFSETTO:-0400
TZNAME:EDT
DTSTART:20230312T070000
END:DAYLIGHT
BEGIN:STANDARD
TZOFFSETFROM:-0400
TZOFFSETTO:-0500
TZNAME:EST
DTSTART:20231105T060000
END:STANDARD
BEGIN:DAYLIGHT
TZOFFSETFROM:-0500
TZOFFSETTO:-0400
TZNAME:EDT
DTSTART:20240310T070000
END:DAYLIGHT
BEGIN:STANDARD
TZOFFSETFROM:-0400
TZOFFSETTO:-0500
TZNAME:EST
DTSTART:20241103T060000
END:STANDARD
BEGIN:DAYLIGHT
TZOFFSETFROM:-0500
TZOFFSETTO:-0400
TZNAME:EDT
DTSTART:20250309T070000
END:DAYLIGHT
BEGIN:STANDARD
TZOFFSETFROM:-0400
TZOFFSETTO:-0500
TZNAME:EST
DTSTART:20251102T060000
END:STANDARD
END:VTIMEZONE
BEGIN:VEVENT
DTSTART;VALUE=DATE:20240408
DTEND;VALUE=DATE:20240414
DTSTAMP:20260422T150143
CREATED:20240307T071509Z
LAST-MODIFIED:20240307T071509Z
UID:3219-1712534400-1713052799@aflouisville.org
SUMMARY:Spring Session Begins
DESCRIPTION:Spring Session 2024\n  \nBegins the week of April 8th.
URL:https://aflouisville.org/event/spring-session-begins/
LOCATION:KY
END:VEVENT
BEGIN:VEVENT
DTSTART;TZID=America/Kentucky/Louisville:20240413T183000
DTEND;TZID=America/Kentucky/Louisville:20240413T213000
DTSTAMP:20260422T150143
CREATED:20240306T215100Z
LAST-MODIFIED:20240314T191309Z
UID:3156-1713033000-1713043800@aflouisville.org
SUMMARY:Wine Tasting
DESCRIPTION:Wine Tasting\nREGISTER HERE\nSaturday\, April 13th | 6:30 – 9:30 PM \n$59 AFL Members $79 Non-Members \nLocation: Norton Commons* \nBlind Wine Tasting | Dinner Included \n  \n*This spectacular soirée will be hosted at a private residence in Norton Commons.; henceforth\, the address will be provided upon registration. \nFurther questions? Email afschool@bellsouth.net.
URL:https://aflouisville.org/event/wine-tasting/
LOCATION:KY
CATEGORIES:Wine
ATTACH;FMTTYPE=image/png:https://aflouisville.org/wp-content/uploads/2024/03/Wine-Tasting-April-1120-x-630-px-1.png
END:VEVENT
END:VCALENDAR