BEGIN:VCALENDAR
VERSION:2.0
PRODID:-//Alliance Française de Louisville - ECPv6.15.17.1//NONSGML v1.0//EN
CALSCALE:GREGORIAN
METHOD:PUBLISH
X-WR-CALNAME:Alliance Française de Louisville
X-ORIGINAL-URL:https://aflouisville.org
X-WR-CALDESC:Events for Alliance Française de Louisville
REFRESH-INTERVAL;VALUE=DURATION:PT1H
X-Robots-Tag:noindex
X-PUBLISHED-TTL:PT1H
BEGIN:VTIMEZONE
TZID:America/Kentucky/Louisville
BEGIN:DAYLIGHT
TZOFFSETFROM:-0500
TZOFFSETTO:-0400
TZNAME:EDT
DTSTART:20230312T070000
END:DAYLIGHT
BEGIN:STANDARD
TZOFFSETFROM:-0400
TZOFFSETTO:-0500
TZNAME:EST
DTSTART:20231105T060000
END:STANDARD
BEGIN:DAYLIGHT
TZOFFSETFROM:-0500
TZOFFSETTO:-0400
TZNAME:EDT
DTSTART:20240310T070000
END:DAYLIGHT
BEGIN:STANDARD
TZOFFSETFROM:-0400
TZOFFSETTO:-0500
TZNAME:EST
DTSTART:20241103T060000
END:STANDARD
BEGIN:DAYLIGHT
TZOFFSETFROM:-0500
TZOFFSETTO:-0400
TZNAME:EDT
DTSTART:20250309T070000
END:DAYLIGHT
BEGIN:STANDARD
TZOFFSETFROM:-0400
TZOFFSETTO:-0500
TZNAME:EST
DTSTART:20251102T060000
END:STANDARD
END:VTIMEZONE
BEGIN:VEVENT
DTSTART;TZID=America/Kentucky/Louisville:20240414T100000
DTEND;TZID=America/Kentucky/Louisville:20240414T233000
DTSTAMP:20260422T145527
CREATED:20240305T230323Z
LAST-MODIFIED:20240307T213434Z
UID:3142-1713088800-1713137400@aflouisville.org
SUMMARY:Container Garden: Herbs of French Cooking Workshop
DESCRIPTION:Container Garden: Herbs of French Cooking Workshop\nREGISTER HERE! \nApril 14th\, 10:00 – 11:30 AM | $45 per person \nAbove the Dirt Garden Shop \n10104 Taylorsville Rd\, Louisville\, KY 40299 \n  \nJoin us to learn about the essential herbs of French cuisine and plant your own petit jardin to cook with this spring ! \nBring your own container* \n  \nFor location\, parking\, or garden specific inquiries\, contact Above the Dirt Garden Shop at (502) 290-4466 or plants@abovethedirtgardenshop.com \n*The garden shop will have containers available for purchase. Cost not included.
URL:https://aflouisville.org/event/container-garden-herbs-of-french-cooking-workshop/
LOCATION:KY
ATTACH;FMTTYPE=image/png:https://aflouisville.org/wp-content/uploads/2024/03/Immersion-Day-Flyer-5.5-x-8.5-1040-x-585-px-5-e1712858351281.png
END:VEVENT
BEGIN:VEVENT
DTSTART;TZID=America/Kentucky/Louisville:20240414T160000
DTEND;TZID=America/Kentucky/Louisville:20240414T170000
DTSTAMP:20260422T145527
CREATED:20240321T202506Z
LAST-MODIFIED:20240321T202506Z
UID:3351-1713110400-1713114000@aflouisville.org
SUMMARY:Conversation Group
DESCRIPTION:French Conversation Group\nEvery Other Sunday 4-5pm at Awry Brewery \nInformal French conversation group that will meet every other Sunday\, 4-5pm at Awry Brewery (meetings in April will be 4/14 and 4/28). Lead by native French speaker\, Myriam Mattsson\, these meetings are free for all AFL members and no registration is required. \nNot yet a member? Learn more about AFL Membership or reach out to afschool@bellsouth.net for more info.
URL:https://aflouisville.org/event/conversation-group-19/
LOCATION:Awry Brewery\, 1025 Barret Ave\, Louisville\, 40204\, United States
CATEGORIES:Conversation Groups
ATTACH;FMTTYPE=image/png:https://aflouisville.org/wp-content/uploads/2024/02/11-e1714065232300.png
END:VEVENT
END:VCALENDAR