BEGIN:VCALENDAR
VERSION:2.0
PRODID:-//Alliance Française de Louisville - ECPv6.15.17.1//NONSGML v1.0//EN
CALSCALE:GREGORIAN
METHOD:PUBLISH
X-ORIGINAL-URL:https://aflouisville.org
X-WR-CALDESC:Events for Alliance Française de Louisville
REFRESH-INTERVAL;VALUE=DURATION:PT1H
X-Robots-Tag:noindex
X-PUBLISHED-TTL:PT1H
BEGIN:VTIMEZONE
TZID:America/Kentucky/Louisville
BEGIN:DAYLIGHT
TZOFFSETFROM:-0500
TZOFFSETTO:-0400
TZNAME:EDT
DTSTART:20230312T070000
END:DAYLIGHT
BEGIN:STANDARD
TZOFFSETFROM:-0400
TZOFFSETTO:-0500
TZNAME:EST
DTSTART:20231105T060000
END:STANDARD
BEGIN:DAYLIGHT
TZOFFSETFROM:-0500
TZOFFSETTO:-0400
TZNAME:EDT
DTSTART:20240310T070000
END:DAYLIGHT
BEGIN:STANDARD
TZOFFSETFROM:-0400
TZOFFSETTO:-0500
TZNAME:EST
DTSTART:20241103T060000
END:STANDARD
BEGIN:DAYLIGHT
TZOFFSETFROM:-0500
TZOFFSETTO:-0400
TZNAME:EDT
DTSTART:20250309T070000
END:DAYLIGHT
BEGIN:STANDARD
TZOFFSETFROM:-0400
TZOFFSETTO:-0500
TZNAME:EST
DTSTART:20251102T060000
END:STANDARD
END:VTIMEZONE
BEGIN:VEVENT
DTSTART;TZID=America/Kentucky/Louisville:20240421T140000
DTEND;TZID=America/Kentucky/Louisville:20240421T170000
DTSTAMP:20260422T145724
CREATED:20240305T223129Z
LAST-MODIFIED:20240307T013427Z
UID:3133-1713708000-1713718800@aflouisville.org
SUMMARY:AFL Member Potluck
DESCRIPTION:AFL Member Potluck & Trivia\nSaturday\, April 21st | 2:00 – 5:00 PM (Open House Style) | Free \n  \nJoin us for an afternoon of delicious food and Francophone/Francophile Trivia! \n  \nInterested in bringing a dish\, sign up sheet available here: Potluck Sign Up Sheet
URL:https://aflouisville.org/event/afl-member-potluck/
LOCATION:Alliance Française de Louisville : Office\, 1313 Lyndon Ln\, Suite 111\, Louisville\, KY\, 40222
ATTACH;FMTTYPE=image/png:https://aflouisville.org/wp-content/uploads/2024/03/AFL-Member-Potluck-1120-x-630-px-e1712860198261.png
END:VEVENT
END:VCALENDAR