BEGIN:VCALENDAR
VERSION:2.0
PRODID:-//Alliance Française de Louisville - ECPv6.15.17.1//NONSGML v1.0//EN
CALSCALE:GREGORIAN
METHOD:PUBLISH
X-ORIGINAL-URL:https://aflouisville.org
X-WR-CALDESC:Events for Alliance Française de Louisville
REFRESH-INTERVAL;VALUE=DURATION:PT1H
X-Robots-Tag:noindex
X-PUBLISHED-TTL:PT1H
BEGIN:VTIMEZONE
TZID:America/Kentucky/Louisville
BEGIN:DAYLIGHT
TZOFFSETFROM:-0500
TZOFFSETTO:-0400
TZNAME:EDT
DTSTART:20230312T070000
END:DAYLIGHT
BEGIN:STANDARD
TZOFFSETFROM:-0400
TZOFFSETTO:-0500
TZNAME:EST
DTSTART:20231105T060000
END:STANDARD
BEGIN:DAYLIGHT
TZOFFSETFROM:-0500
TZOFFSETTO:-0400
TZNAME:EDT
DTSTART:20240310T070000
END:DAYLIGHT
BEGIN:STANDARD
TZOFFSETFROM:-0400
TZOFFSETTO:-0500
TZNAME:EST
DTSTART:20241103T060000
END:STANDARD
BEGIN:DAYLIGHT
TZOFFSETFROM:-0500
TZOFFSETTO:-0400
TZNAME:EDT
DTSTART:20250309T070000
END:DAYLIGHT
BEGIN:STANDARD
TZOFFSETFROM:-0400
TZOFFSETTO:-0500
TZNAME:EST
DTSTART:20251102T060000
END:STANDARD
END:VTIMEZONE
BEGIN:VEVENT
DTSTART;TZID=America/Kentucky/Louisville:20240428T103000
DTEND;TZID=America/Kentucky/Louisville:20240428T120000
DTSTAMP:20260422T145643
CREATED:20240306T223423Z
LAST-MODIFIED:20240322T003923Z
UID:3163-1714300200-1714305600@aflouisville.org
SUMMARY:Cave Hill Walking Tours - Celtic Cross
DESCRIPTION:Cave Hill Walking Tours        (register below)\nCeltic Cross Walk\nAPRIL 28th | 10:30 \nAnne Harlan will be leading four walking tours through Cave Hill Cemetery this Spring. Cave Hill Cemetery is rich with Louisville’s history\, stories\, and symbols which Anne shares\, along with French vocabulary and excerpts. The walks on April 27th and 28th will focus on the Celtic Cross. Anne will take the group along a route to see the beautiful crosses within Cave Hill while diving into the stories\, traditions\, and history with corresponding French vocabulary. \nThese walks are approximately 3.5 miles\, and may be considered arduous. \nAttendees will meet at the Cave Hill entrance off Baxter Ave. and will receive a folder with informational handouts to accompany the walk. \nIn the past\, the group has met for lunch and conversation afterwards at the Bristol or the Eagle. \n$10 Donation Request (may be made the day of or at this link) \nREGISTER HERE\n\n← Back Thank you for your response. ✨\n\n\n					\n						\n							\n							\n						\n						\n						\n						\n						\n							\n								\n									\n										\n										\n									\n									\n										\n										\n									\n								\n							\n						\n						\n							\n								\n									\n									\n										\n									\n									\n									\n								\n							\n						\n					\n				\n\n\n\nName(required)\n\n \n			\n				\n					\n						\n						\n						\n					\n				\n				\n			 \n	\n\n\nEmail(required)\n\n \n			\n				\n					\n						\n						\n						\n					\n				\n				\n			 \n	\n\n\nI would like to register for:  (required)\n Celtic Cross Walk on April 27th Celtic Cross Walk on April 28th Spring Walk on May 18th Spring Walk on May 19th\n			\n				\n					\n						\n						\n						\n					\n				\n				\n				\n	\n\n				\n					\n				\n						Submit		\n		\n		\n	 \nΔ
URL:https://aflouisville.org/event/cave-hill-walking-tours-celtic-cross-2/
LOCATION:KY
CATEGORIES:Walks
ATTACH;FMTTYPE=image/png:https://aflouisville.org/wp-content/uploads/2024/03/Cave-Hill-Walking-Tours-Celtic-Cross-Edition-1120-x-630-px-1.png
END:VEVENT
BEGIN:VEVENT
DTSTART;TZID=America/Kentucky/Louisville:20240428T160000
DTEND;TZID=America/Kentucky/Louisville:20240428T170000
DTSTAMP:20260422T145643
CREATED:20240321T202717Z
LAST-MODIFIED:20240321T202718Z
UID:3353-1714320000-1714323600@aflouisville.org
SUMMARY:Conversation Group
DESCRIPTION:French Conversation Group\nEvery Other Sunday 4-5pm at Awry Brewery \nInformal French conversation group that will meet every other Sunday\, 4-5pm at Awry Brewery (meetings in April will be 4/14 and 4/28). Lead by native French speaker\, Myriam Mattsson\, these meetings are free for all AFL members and no registration is required. \nNot yet a member? Learn more about AFL Membership or reach out to afschool@bellsouth.net for more info.
URL:https://aflouisville.org/event/conversation-group-20/
LOCATION:Awry Brewery\, 1025 Barret Ave\, Louisville\, 40204\, United States
CATEGORIES:Conversation Groups
ATTACH;FMTTYPE=image/png:https://aflouisville.org/wp-content/uploads/2024/02/11-e1714065232300.png
END:VEVENT
END:VCALENDAR