BEGIN:VCALENDAR
VERSION:2.0
PRODID:-//Alliance Française de Louisville - ECPv6.15.17.1//NONSGML v1.0//EN
CALSCALE:GREGORIAN
METHOD:PUBLISH
X-WR-CALNAME:Alliance Française de Louisville
X-ORIGINAL-URL:https://aflouisville.org
X-WR-CALDESC:Events for Alliance Française de Louisville
REFRESH-INTERVAL;VALUE=DURATION:PT1H
X-Robots-Tag:noindex
X-PUBLISHED-TTL:PT1H
BEGIN:VTIMEZONE
TZID:America/Kentucky/Louisville
BEGIN:DAYLIGHT
TZOFFSETFROM:-0500
TZOFFSETTO:-0400
TZNAME:EDT
DTSTART:20230312T070000
END:DAYLIGHT
BEGIN:STANDARD
TZOFFSETFROM:-0400
TZOFFSETTO:-0500
TZNAME:EST
DTSTART:20231105T060000
END:STANDARD
BEGIN:DAYLIGHT
TZOFFSETFROM:-0500
TZOFFSETTO:-0400
TZNAME:EDT
DTSTART:20240310T070000
END:DAYLIGHT
BEGIN:STANDARD
TZOFFSETFROM:-0400
TZOFFSETTO:-0500
TZNAME:EST
DTSTART:20241103T060000
END:STANDARD
BEGIN:DAYLIGHT
TZOFFSETFROM:-0500
TZOFFSETTO:-0400
TZNAME:EDT
DTSTART:20250309T070000
END:DAYLIGHT
BEGIN:STANDARD
TZOFFSETFROM:-0400
TZOFFSETTO:-0500
TZNAME:EST
DTSTART:20251102T060000
END:STANDARD
END:VTIMEZONE
BEGIN:VEVENT
DTSTART;TZID=America/Kentucky/Louisville:20240511T100000
DTEND;TZID=America/Kentucky/Louisville:20240511T120000
DTSTAMP:20260422T161507
CREATED:20240416T223619Z
LAST-MODIFIED:20240416T223620Z
UID:3502-1715421600-1715428800@aflouisville.org
SUMMARY:Conversation Group
DESCRIPTION:French Conversation Group\n  \nThis is an informal French conversation class lead by Richard Vivier. This group meets Saturday mornings at the AFL office. \n10:00 – 11:00  A1/A2 \n11:00 – 12:00 B1+ (goes to North Lime Café when the small classroom is occupied) \nAnyone\, at any level\, is welcome to stay for either or both. No registration required. \n  \nConversation groups are for Members of the AFL. Not yet a member? Register here or email afschool@bellsouth.net with any questions.
URL:https://aflouisville.org/event/conversation-group-28/
LOCATION:Alliance Française de Louisville : Office\, 1313 Lyndon Ln\, Suite 111\, Louisville\, KY\, 40222
CATEGORIES:Conversation Groups
ATTACH;FMTTYPE=image/png:https://aflouisville.org/wp-content/uploads/2024/03/Add-a-heading-1120-x-630-px.png
END:VEVENT
BEGIN:VEVENT
DTSTART;TZID=America/Kentucky/Louisville:20240511T160000
DTEND;TZID=America/Kentucky/Louisville:20240511T170000
DTSTAMP:20260422T161507
CREATED:20240425T195140Z
LAST-MODIFIED:20240507T231721Z
UID:3529-1715443200-1715446800@aflouisville.org
SUMMARY:Speaker Series: An Introduction to Quebec
DESCRIPTION:An Introduction to Quebec and French-speaking Canada: History\, Culture and Language\nPresented by Jim Natsis \nFree for Members | $10 for Non-Members*            REGISTER BELOW \nSaturday\, May 11th\, 4:00 – 5:00 PM \nThis lecture will serve as a one-stop shop for those interested in better understanding our friendly neighbor to the north—Canada. We will review the geography and modern history of the nation from the founding of the early permanent settlement and eventual capital of New France\, Quebec City\, in 1608\, to the present. \nWe will also discuss the role of the catholic church and the French language as cohesive points of identity in Quebec society\, and the eventual rise of the provincial government as the alternative to a mid-20th century generation seeking to partake in post WWII North American secularism and economic prosperity\, while maintaining a distinct cultural and linguistic identity. Quebec would serve as an inspiration and support for French-speaking minority communities throughout Canada as well. \nAnd finally\, we’ll look at what makes Quebec and French-speaking Canada unique culturally and linguistically not only from the rest of Canada\, but also from France and much of the francophone world. \nREGISTER  ↓ \n\n← Back Thank you for your response. ✨\n\n\n					\n						\n							\n							\n						\n						\n						\n						\n						\n							\n								\n									\n										\n										\n									\n									\n										\n										\n									\n								\n							\n						\n						\n							\n								\n									\n									\n										\n									\n									\n									\n								\n							\n						\n					\n				\n\n\n\nName(required)\n\n \n			\n				\n					\n						\n						\n						\n					\n				\n				\n			 \n	\n\n\nEmail(required)\n\n \n			\n				\n					\n						\n						\n						\n					\n				\n				\n			 \n	\n\n\nSelect one:(required)\n I am an AFL member and will be attending this event. (gratuit) I am not an AFL member and will be attending this event. ($10)\n			\n				\n					\n						\n						\n						\n					\n				\n				\n				\n	\n\n				\n					\n				\n						Submit		\n		\n		\n	 \nΔ \n\n  \n*Non-member attendees will be responsible for making this payment prior to the presentation. This can be done the day of the event or at this link.
URL:https://aflouisville.org/event/introduction-to-quebec/
LOCATION:Alliance Française de Louisville : Office\, 1313 Lyndon Ln\, Suite 111\, Louisville\, KY\, 40222
CATEGORIES:Culture & Holiday,Speaker Series,Travel
ATTACH;FMTTYPE=image/png:https://aflouisville.org/wp-content/uploads/2024/04/SSE-Intro-to-Quebec-Calendar-Image-3-e1714062247879.png
END:VEVENT
END:VCALENDAR