BEGIN:VCALENDAR
VERSION:2.0
PRODID:-//Alliance Française de Louisville - ECPv6.15.17.1//NONSGML v1.0//EN
CALSCALE:GREGORIAN
METHOD:PUBLISH
X-ORIGINAL-URL:https://aflouisville.org
X-WR-CALDESC:Events for Alliance Française de Louisville
REFRESH-INTERVAL;VALUE=DURATION:PT1H
X-Robots-Tag:noindex
X-PUBLISHED-TTL:PT1H
BEGIN:VTIMEZONE
TZID:America/Kentucky/Louisville
BEGIN:DAYLIGHT
TZOFFSETFROM:-0500
TZOFFSETTO:-0400
TZNAME:EDT
DTSTART:20230312T070000
END:DAYLIGHT
BEGIN:STANDARD
TZOFFSETFROM:-0400
TZOFFSETTO:-0500
TZNAME:EST
DTSTART:20231105T060000
END:STANDARD
BEGIN:DAYLIGHT
TZOFFSETFROM:-0500
TZOFFSETTO:-0400
TZNAME:EDT
DTSTART:20240310T070000
END:DAYLIGHT
BEGIN:STANDARD
TZOFFSETFROM:-0400
TZOFFSETTO:-0500
TZNAME:EST
DTSTART:20241103T060000
END:STANDARD
BEGIN:DAYLIGHT
TZOFFSETFROM:-0500
TZOFFSETTO:-0400
TZNAME:EDT
DTSTART:20250309T070000
END:DAYLIGHT
BEGIN:STANDARD
TZOFFSETFROM:-0400
TZOFFSETTO:-0500
TZNAME:EST
DTSTART:20251102T060000
END:STANDARD
END:VTIMEZONE
BEGIN:VEVENT
DTSTART;TZID=America/Kentucky/Louisville:20240519T103000
DTEND;TZID=America/Kentucky/Louisville:20240519T120000
DTSTAMP:20260422T161626
CREATED:20240306T224708Z
LAST-MODIFIED:20240504T191326Z
UID:3170-1716114600-1716120000@aflouisville.org
SUMMARY:Cave Hill Walking Tours - Spring Walk
DESCRIPTION:Cave Hill Historic Walking Tours        (register below)\nSpring Walk : Route 2\nMAY 19th | 10:30 \nAnne Harlan will be leading four walking tours through Cave Hill Cemetery this Spring. Cave Hill Cemetery is rich with Louisville’s history\, stories\, and symbols which Anne shares\, along with French vocabulary and excerpts. The walks on May 18th and 19th will highlight the incredible beauty Spring brings to the hundreds of plants\, flowers\, trees\, and shrubs within Cave Hill. A beautiful opportunity to learn some French words and phrases for Spring (or share your favorite!). \nThese walks are approximately 3.5 miles\, and may be considered arduous. \nAttendees will meet at the Cave Hill entrance off Baxter Ave. and will receive a folder with informational handouts to accompany the walk. \nIn the past\, the group has met for lunch and conversation afterwards at the Bristol or the Eagle. \n$10 Donation Request (may be made the day of or at this link) \nREGISTER HERE\n\n← Back Thank you for your response. ✨\n\n\n					\n						\n							\n							\n						\n						\n						\n						\n						\n							\n								\n									\n										\n										\n									\n									\n										\n										\n									\n								\n							\n						\n						\n							\n								\n									\n									\n										\n									\n									\n									\n								\n							\n						\n					\n				\n\n\n\nName(required)\n\n \n			\n				\n					\n						\n						\n						\n					\n				\n				\n			 \n	\n\n\nEmail(required)\n\n \n			\n				\n					\n						\n						\n						\n					\n				\n				\n			 \n	\n\n\nI would like to register for:  (required)\n Celtic Cross Walk on April 27th Celtic Cross Walk on April 28th Spring Walk on May 18th Spring Walk on May 19th\n			\n				\n					\n						\n						\n						\n					\n				\n				\n				\n	\n\n				\n					\n				\n						Submit		\n		\n		\n	 \nΔ
URL:https://aflouisville.org/event/cave-hill-walking-tours-spring-walk-2/
LOCATION:KY
CATEGORIES:Walks
ATTACH;FMTTYPE=image/png:https://aflouisville.org/wp-content/uploads/2024/03/Cave-Hill-Walking-Tours-Spring-Edition-1120-x-630-px-2-1.png
END:VEVENT
BEGIN:VEVENT
DTSTART;TZID=America/Kentucky/Louisville:20240519T160000
DTEND;TZID=America/Kentucky/Louisville:20240519T170000
DTSTAMP:20260422T161626
CREATED:20240425T211943Z
LAST-MODIFIED:20240425T211943Z
UID:3541-1716134400-1716138000@aflouisville.org
SUMMARY:Conversation Group
DESCRIPTION:French Conversation Group\nSelect Sundays 4-5pm at Awry Brewery \nInformal French conversation group that will meet\, in general\, every other Sunday from 4-5pm at Awry Brewery (meetings in May will be 5/5 and 5/19). Lead by native French speaker\, Myriam Mattsson\, these meetings are free for all AFL members and no registration is required. \nNot yet a member? Learn more about AFL Membership or reach out to afschool@bellsouth.net for more info.
URL:https://aflouisville.org/event/conversation-group-31/
LOCATION:Awry Brewery\, 1025 Barret Ave\, Louisville\, 40204\, United States
CATEGORIES:Conversation Groups
ATTACH;FMTTYPE=image/png:https://aflouisville.org/wp-content/uploads/2024/02/11-e1714065232300.png
END:VEVENT
END:VCALENDAR