BEGIN:VCALENDAR
VERSION:2.0
PRODID:-//Alliance Française de Louisville - ECPv6.15.17.1//NONSGML v1.0//EN
CALSCALE:GREGORIAN
METHOD:PUBLISH
X-ORIGINAL-URL:https://aflouisville.org
X-WR-CALDESC:Events for Alliance Française de Louisville
REFRESH-INTERVAL;VALUE=DURATION:PT1H
X-Robots-Tag:noindex
X-PUBLISHED-TTL:PT1H
BEGIN:VTIMEZONE
TZID:America/Kentucky/Louisville
BEGIN:DAYLIGHT
TZOFFSETFROM:-0500
TZOFFSETTO:-0400
TZNAME:EDT
DTSTART:20230312T070000
END:DAYLIGHT
BEGIN:STANDARD
TZOFFSETFROM:-0400
TZOFFSETTO:-0500
TZNAME:EST
DTSTART:20231105T060000
END:STANDARD
BEGIN:DAYLIGHT
TZOFFSETFROM:-0500
TZOFFSETTO:-0400
TZNAME:EDT
DTSTART:20240310T070000
END:DAYLIGHT
BEGIN:STANDARD
TZOFFSETFROM:-0400
TZOFFSETTO:-0500
TZNAME:EST
DTSTART:20241103T060000
END:STANDARD
BEGIN:DAYLIGHT
TZOFFSETFROM:-0500
TZOFFSETTO:-0400
TZNAME:EDT
DTSTART:20250309T070000
END:DAYLIGHT
BEGIN:STANDARD
TZOFFSETFROM:-0400
TZOFFSETTO:-0500
TZNAME:EST
DTSTART:20251102T060000
END:STANDARD
END:VTIMEZONE
BEGIN:VEVENT
DTSTART;TZID=America/Kentucky/Louisville:20240609T150000
DTEND;TZID=America/Kentucky/Louisville:20240609T170000
DTSTAMP:20260423T003628
CREATED:20240528T221705Z
LAST-MODIFIED:20240528T221705Z
UID:3698-1717945200-1717952400@aflouisville.org
SUMMARY:LE SAMOURAÏ
DESCRIPTION:LE SAMOURAÏ – 4K Restoration Trailer from Janus Films on Vimeo. \nNew 4K Digital Restoration \nLe Samouraï\nDirected by Jean-Pierre Melville \nJune 7\, 6 pm | BUY TICKETS \nJune 8\, 3 pm | BUY TICKETS\nJune 8\, 6 pm | BUY TICKETS \nJune 9\, 3 pm | BUY TICKETS \n$12 | $8 Speed and Alliance Française members \n“The epitome of French cool”—Time Out \nIn a career-defining performance\, Alain Delon plays Jef Costello\, a contract killer with samurai instincts. After carrying out a flawlessly planned hit\, Jef finds himself caught between a persistent police investigator and a ruthless employer\, and not even his armor of fedora and trench coat can protect him. \nAn elegantly stylized masterpiece of cool by maverick director Jean‑Pierre Melville\, Le samouraï is a razor-sharp cocktail of 1940s American gangster cinema and 1960s French pop culture—with a liberal dose of Japanese lone-warrior mythology. 1967\, France\, 4K DCP\, in French with English subtitles\, 105 minutes. \nRestored in 4K by Pathé and The Criterion Collection at L’Immagine Ritrovata\, from the original 35mm negative.
URL:https://aflouisville.org/event/le-samourai-3/
LOCATION:Speed Museum Cinema\, 2035 S. 3rd Street\, Louisville\, KY\, 40208\, United States
CATEGORIES:Film & Cinema
ATTACH;FMTTYPE=image/jpeg:https://aflouisville.org/wp-content/uploads/2024/05/LeSamourai_image_03-scaled-1.jpg
END:VEVENT
BEGIN:VEVENT
DTSTART;TZID=America/Kentucky/Louisville:20240609T160000
DTEND;TZID=America/Kentucky/Louisville:20240609T170000
DTSTAMP:20260423T003628
CREATED:20240528T212225Z
LAST-MODIFIED:20240528T212225Z
UID:3683-1717948800-1717952400@aflouisville.org
SUMMARY:Conversation Group
DESCRIPTION:French Conversation Group\nSelect Sundays 4-5pm at Awry Brewery \nInformal French conversation group that will meet\, in general\, every other Sunday from 4-5pm at Awry Brewery (meetings in June will be 6/2\, 6/9\, 6/30). Lead by native French speaker\, Myriam Mattsson\, these meetings are free for all AFL members and no registration is required. \nNot yet a member? Learn more about AFL Membership or reach out to afschool@bellsouth.net for more info.
URL:https://aflouisville.org/event/conversation-group-33/
LOCATION:Awry Brewery\, 1025 Barret Ave\, Louisville\, 40204\, United States
CATEGORIES:Conversation Groups
ATTACH;FMTTYPE=image/png:https://aflouisville.org/wp-content/uploads/2024/02/11-e1714065232300.png
END:VEVENT
END:VCALENDAR