BEGIN:VCALENDAR
VERSION:2.0
PRODID:-//Alliance Française de Louisville - ECPv6.15.17.1//NONSGML v1.0//EN
CALSCALE:GREGORIAN
METHOD:PUBLISH
X-WR-CALNAME:Alliance Française de Louisville
X-ORIGINAL-URL:https://aflouisville.org
X-WR-CALDESC:Events for Alliance Française de Louisville
REFRESH-INTERVAL;VALUE=DURATION:PT1H
X-Robots-Tag:noindex
X-PUBLISHED-TTL:PT1H
BEGIN:VTIMEZONE
TZID:America/New_York
BEGIN:DAYLIGHT
TZOFFSETFROM:-0500
TZOFFSETTO:-0400
TZNAME:EDT
DTSTART:20210314T070000
END:DAYLIGHT
BEGIN:STANDARD
TZOFFSETFROM:-0400
TZOFFSETTO:-0500
TZNAME:EST
DTSTART:20211107T060000
END:STANDARD
BEGIN:DAYLIGHT
TZOFFSETFROM:-0500
TZOFFSETTO:-0400
TZNAME:EDT
DTSTART:20220313T070000
END:DAYLIGHT
BEGIN:STANDARD
TZOFFSETFROM:-0400
TZOFFSETTO:-0500
TZNAME:EST
DTSTART:20221106T060000
END:STANDARD
BEGIN:DAYLIGHT
TZOFFSETFROM:-0500
TZOFFSETTO:-0400
TZNAME:EDT
DTSTART:20230312T070000
END:DAYLIGHT
BEGIN:STANDARD
TZOFFSETFROM:-0400
TZOFFSETTO:-0500
TZNAME:EST
DTSTART:20231105T060000
END:STANDARD
END:VTIMEZONE
BEGIN:VEVENT
DTSTART;TZID=America/New_York:20221021T183000
DTEND;TZID=America/New_York:20221021T210000
DTSTAMP:20260420T185134
CREATED:20221021T231830Z
LAST-MODIFIED:20221022T001207Z
UID:1195-1666377000-1666386000@aflouisville.org
SUMMARY:AFL Annual Dinner
DESCRIPTION:The Alliance Française de Louisville’s Annual Dinner\nFriday\, October 21\, 2022\n6:30 pm\nBrasserie Provence\n150 N Hurstbourne Pkwy\nForum Shopping Center\nOwner\, Guy Genoud\nGuest Speaker\, Dr. Renato LaRocca\n“Chasing Amelia Earhart”
URL:https://aflouisville.org/event/afl-annual-dinner/
LOCATION:Brasserie Provence\, 150 N Hurstbourne Pkwy\, Louisville\, KY\, 40222\, United States
END:VEVENT
BEGIN:VEVENT
DTSTART;TZID=America/New_York:20221016T180000
DTEND;TZID=America/New_York:20221016T200000
DTSTAMP:20260420T185134
CREATED:20221021T232555Z
LAST-MODIFIED:20221022T001334Z
UID:1203-1665943200-1665950400@aflouisville.org
SUMMARY:Spécial Halloween - Les Rues Décorées de Louisville
DESCRIPTION:Join AFL instructor\, Corinne Cristante\, for some spooky fun in French! Walk the decorated streets of Louisville and converse on the theme of Halloween. Learn about the tradition in France and use lots of scary vocabulary. \nSchedule\nSunday\, October 16  \n\n6 pm – 7 pm   Beginner and Intermediate\n7 pm – 8 pm   Students of French (Grades 8-12) all levels; Flashlights required\n\nLocation \n\nMeet in front of 300 Hillcrest Avenue\nLook for a French woman in a witch hat\nParking on Frankfort Ave\, Pennsylvania and Field\n\n$15 for AFL Members\n$20 for non-members\n$5 for Students \nSpace is limited!\nVocabulary list and take-home materials provided \nRéservez votre place dès maintenant !\nReserve your spot by e-mailing the AFL at afschool@bellsouth.net!
URL:https://aflouisville.org/event/special-halloween-les-rues-decorees-de-louisville/
LOCATION:Hillcrest\, 300 Hillcrest Avenue\, Louisville\, KY\, 40206\, United States
END:VEVENT
END:VCALENDAR