BEGIN:VCALENDAR
VERSION:2.0
PRODID:-//Alliance Française de Louisville - ECPv6.15.17.1//NONSGML v1.0//EN
CALSCALE:GREGORIAN
METHOD:PUBLISH
X-ORIGINAL-URL:https://aflouisville.org
X-WR-CALDESC:Events for Alliance Française de Louisville
REFRESH-INTERVAL;VALUE=DURATION:PT1H
X-Robots-Tag:noindex
X-PUBLISHED-TTL:PT1H
BEGIN:VTIMEZONE
TZID:America/Halifax
BEGIN:DAYLIGHT
TZOFFSETFROM:-0400
TZOFFSETTO:-0300
TZNAME:ADT
DTSTART:20230312T060000
END:DAYLIGHT
BEGIN:STANDARD
TZOFFSETFROM:-0300
TZOFFSETTO:-0400
TZNAME:AST
DTSTART:20231105T050000
END:STANDARD
BEGIN:DAYLIGHT
TZOFFSETFROM:-0400
TZOFFSETTO:-0300
TZNAME:ADT
DTSTART:20240310T060000
END:DAYLIGHT
BEGIN:STANDARD
TZOFFSETFROM:-0300
TZOFFSETTO:-0400
TZNAME:AST
DTSTART:20241103T050000
END:STANDARD
BEGIN:DAYLIGHT
TZOFFSETFROM:-0400
TZOFFSETTO:-0300
TZNAME:ADT
DTSTART:20250309T060000
END:DAYLIGHT
BEGIN:STANDARD
TZOFFSETFROM:-0300
TZOFFSETTO:-0400
TZNAME:AST
DTSTART:20251102T050000
END:STANDARD
END:VTIMEZONE
BEGIN:VTIMEZONE
TZID:America/New_York
BEGIN:DAYLIGHT
TZOFFSETFROM:-0500
TZOFFSETTO:-0400
TZNAME:EDT
DTSTART:20230312T070000
END:DAYLIGHT
BEGIN:STANDARD
TZOFFSETFROM:-0400
TZOFFSETTO:-0500
TZNAME:EST
DTSTART:20231105T060000
END:STANDARD
BEGIN:DAYLIGHT
TZOFFSETFROM:-0500
TZOFFSETTO:-0400
TZNAME:EDT
DTSTART:20240310T070000
END:DAYLIGHT
BEGIN:STANDARD
TZOFFSETFROM:-0400
TZOFFSETTO:-0500
TZNAME:EST
DTSTART:20241103T060000
END:STANDARD
BEGIN:DAYLIGHT
TZOFFSETFROM:-0500
TZOFFSETTO:-0400
TZNAME:EDT
DTSTART:20250309T070000
END:DAYLIGHT
BEGIN:STANDARD
TZOFFSETFROM:-0400
TZOFFSETTO:-0500
TZNAME:EST
DTSTART:20251102T060000
END:STANDARD
END:VTIMEZONE
BEGIN:VEVENT
DTSTART;TZID=America/Halifax:20240106T130000
DTEND;TZID=America/Halifax:20240106T170000
DTSTAMP:20260422T084905
CREATED:20231230T201654Z
LAST-MODIFIED:20231230T202642Z
UID:2737-1704546000-1704560400@aflouisville.org
SUMMARY:MENUS PLAISIRS - LES TROISGROS
DESCRIPTION:MENUS PLAISIRS – LES TROISGROS \nDirected by Frederick Wiseman \nShowing at the Speed Cinema \nSaturday\, January 6\, 1 pm\nSunday\, January 7\, 1 pm\n\n\n“A team that with love\, ingenuity\, choreography\, sublime technique\, and a regard for the larger world\ncreate one astonishment after another for the delight and delectation of others – much like the\ngenius behind the camera.”—Manohla Dargis\, The New York Times\n\n\nPrice: $8 admission for AFL members\n\n\nIn French with English subtitles\, 240 minutes. Recommended for 16+.\n\nTRAILER
URL:https://aflouisville.org/event/menus-plaisirs-les-troisgros/
LOCATION:Speed Museum Cinema\, 2035 S. 3rd Street\, Louisville\, KY\, 40208\, United States
ATTACH;FMTTYPE=image/jpeg:https://aflouisville.org/wp-content/uploads/2023/12/Menus-Plaisirs-Image.jpg
END:VEVENT
BEGIN:VEVENT
DTSTART;TZID=America/Halifax:20240107T130000
DTEND;TZID=America/Halifax:20240107T170000
DTSTAMP:20260422T084905
CREATED:20231230T202047Z
LAST-MODIFIED:20231230T202713Z
UID:2743-1704632400-1704646800@aflouisville.org
SUMMARY:MENUS PLAISIRS - LES TROISGROS
DESCRIPTION:MENUS PLAISIRS – LES TROISGROS \nDirected by Frederick Wiseman \nShowing at the Speed Cinema \nSaturday\, January 6\, 1 pm\nSunday\, January 7\, 1 pm\n\n\n“A team that with love\, ingenuity\, choreography\, sublime technique\, and a regard for the larger world\ncreate one astonishment after another for the delight and delectation of others – much like the\ngenius behind the camera.”—Manohla Dargis\, The New York Times\n\n\nPrice: $8 admission for AFL members\n\n\nIn French with English subtitles\, 240 minutes. Recommended for 16+.\n\nTRAILER
URL:https://aflouisville.org/event/menus-plaisirs-les-troisgros-2/
LOCATION:Speed Museum Cinema\, 2035 S. 3rd Street\, Louisville\, KY\, 40208\, United States
ATTACH;FMTTYPE=image/jpeg:https://aflouisville.org/wp-content/uploads/2023/12/Menus-Plaisirs-Image.jpg
END:VEVENT
BEGIN:VEVENT
DTSTART;TZID=America/Halifax:20240108T100000
DTEND;TZID=America/Halifax:20240108T220000
DTSTAMP:20260422T084905
CREATED:20231222T001231Z
LAST-MODIFIED:20231222T001416Z
UID:2706-1704708000-1704751200@aflouisville.org
SUMMARY:Winter Course Session Begins
DESCRIPTION:Winter Class Session 2023 Begins\n  \nLearn more about the French classes offered at AFL and register today! \n 
URL:https://aflouisville.org/event/winter-course-session-begins/
LOCATION:KY
ATTACH;FMTTYPE=image/png:https://aflouisville.org/wp-content/uploads/2023/12/Winter-Course-Session-Enrollment-Announcement-3-1.png
END:VEVENT
BEGIN:VEVENT
DTSTART;TZID=America/Halifax:20240113T130000
DTEND;TZID=America/Halifax:20240113T160000
DTSTAMP:20260422T084905
CREATED:20231221T222717Z
LAST-MODIFIED:20231221T232239Z
UID:2686-1705150800-1705161600@aflouisville.org
SUMMARY:Galette des Rois Cooking Class
DESCRIPTION:As we approach la Fête des Rois many look forward to the beloved holiday treat\, la galette des rois\, a French frangipane cake made in the new year to celebrate Epiphany or Kings’ Day. \n  \nAFL will be offering a Galette de Rois Cooking Class\, which will include beverages and charcuterie for the attendees to enjoy while they learn to make this favorite from French-native\, Julien Marechaux. He will share a bit of background on la Fête des Rois and how he celebrated in his family. \n  \n$55 per person | Guests attend the Fête des Rois party on January 14th gratuit \n  \nLimited to 10 spaces only \n  \nREGISTER HERE or email afschool@bellsouth.net for more information.
URL:https://aflouisville.org/event/galette-des-rois-cooking-class/
LOCATION:KY
CATEGORIES:Cooking Classes
ATTACH;FMTTYPE=image/png:https://aflouisville.org/wp-content/uploads/2023/12/Galette-des-Rois-Feature-Image.png
END:VEVENT
BEGIN:VEVENT
DTSTART;TZID=America/Halifax:20240114T140000
DTEND;TZID=America/Halifax:20240114T160000
DTSTAMP:20260422T084905
CREATED:20231221T233841Z
LAST-MODIFIED:20231221T234930Z
UID:2695-1705240800-1705248000@aflouisville.org
SUMMARY:Fête des Rois
DESCRIPTION:Celebrate la Fête des Rois on January 14th with Alliance Française de Louisville. \n  \nTaste traditional galette des rois and enjoy the festivities of the this French holiday. Will you find the fève? \n  \nREGISTER HERE  \n  \n$5 Members | $10 Non-Members \n  \nInterested in learning how to make this sweet holiday treat? Register for our Galette des Rois Cooking Class with Julien Marechaux!
URL:https://aflouisville.org/event/fete-des-rois/
LOCATION:Alliance Française de Louisville : Office\, 1313 Lyndon Ln\, Suite 111\, Louisville\, KY\, 40222
CATEGORIES:Culture & Holiday
ATTACH;FMTTYPE=image/png:https://aflouisville.org/wp-content/uploads/2023/12/Maroon-Beige-Illustrated-Three-Kings-Greeting-Instagram-Post-1.png
END:VEVENT
BEGIN:VEVENT
DTSTART;TZID=America/New_York:20240121T133000
DTEND;TZID=America/New_York:20240121T150000
DTSTAMP:20260422T084905
CREATED:20240116T225908Z
LAST-MODIFIED:20240116T230016Z
UID:2873-1705843800-1705849200@aflouisville.org
SUMMARY:French for Travelers Class Starts!
DESCRIPTION:REGISTER HERE !
URL:https://aflouisville.org/event/french-for-travelers-class-starts/
LOCATION:KY
CATEGORIES:Culture & Holiday,Travel
END:VEVENT
BEGIN:VEVENT
DTSTART;TZID=America/New_York:20240121T160000
DTEND;TZID=America/New_York:20240121T170000
DTSTAMP:20260422T084905
CREATED:20240109T223548Z
LAST-MODIFIED:20240109T223833Z
UID:2821-1705852800-1705856400@aflouisville.org
SUMMARY:Conversation Group
DESCRIPTION:French Conversation Group\n  \nInformal French conversation group that will meet Sundays\, 4-5pm at Awry Brewery\, beginning January 21st. Lead by native French speaker\, Myriam Mattsson\, these meetings are free for all AFL members and no registration is required. \n  \nAttendees 21+
URL:https://aflouisville.org/event/conversation-group/
LOCATION:Awry Brewery\, 1025 Barret Ave\, Louisville\, 40204\, United States
ATTACH;FMTTYPE=image/png:https://aflouisville.org/wp-content/uploads/2024/01/French-Conversation-Group.png
END:VEVENT
BEGIN:VEVENT
DTSTART;TZID=America/New_York:20240128T160000
DTEND;TZID=America/New_York:20240128T170000
DTSTAMP:20260422T084905
CREATED:20240125T223132Z
LAST-MODIFIED:20240125T223132Z
UID:2913-1706457600-1706461200@aflouisville.org
SUMMARY:Conversation Group
DESCRIPTION:French Conversation Group\nSundays 4-5pm at Awry Brewery \n  \nInformal French conversation group that will meet Sundays\, 4-5pm at Awry Brewery\, beginning January 21st. Lead by native French speaker\, Myriam Mattsson\, these meetings are free for all AFL members and no registration is required. \nNot yet a member? Learn more about AFL Membership or reach out to afschool@bellsouth.net for more info. \nDiscussion Topics:\n\nVoici 2 questions faciles que les participants au groupe de conversation peuvent préparer pour ce dimanche:\n\n1/ Où as-tu grandi?\n2/ Quel est ton plat préféré?\n\n\nAttendees 21+
URL:https://aflouisville.org/event/conversation-group-2/
LOCATION:KY
CATEGORIES:Conversation Groups
ATTACH;FMTTYPE=image/png:https://aflouisville.org/wp-content/uploads/2024/01/Conversation-Group-Flyer-Dimanche-Facebook-Cover.png
END:VEVENT
END:VCALENDAR