BEGIN:VCALENDAR
VERSION:2.0
PRODID:-//Alliance Française de Louisville - ECPv6.15.17.1//NONSGML v1.0//EN
CALSCALE:GREGORIAN
METHOD:PUBLISH
X-ORIGINAL-URL:https://aflouisville.org
X-WR-CALDESC:Events for Alliance Française de Louisville
REFRESH-INTERVAL;VALUE=DURATION:PT1H
X-Robots-Tag:noindex
X-PUBLISHED-TTL:PT1H
BEGIN:VTIMEZONE
TZID:America/New_York
BEGIN:DAYLIGHT
TZOFFSETFROM:-0500
TZOFFSETTO:-0400
TZNAME:EDT
DTSTART:20230312T070000
END:DAYLIGHT
BEGIN:STANDARD
TZOFFSETFROM:-0400
TZOFFSETTO:-0500
TZNAME:EST
DTSTART:20231105T060000
END:STANDARD
BEGIN:DAYLIGHT
TZOFFSETFROM:-0500
TZOFFSETTO:-0400
TZNAME:EDT
DTSTART:20240310T070000
END:DAYLIGHT
BEGIN:STANDARD
TZOFFSETFROM:-0400
TZOFFSETTO:-0500
TZNAME:EST
DTSTART:20241103T060000
END:STANDARD
BEGIN:DAYLIGHT
TZOFFSETFROM:-0500
TZOFFSETTO:-0400
TZNAME:EDT
DTSTART:20250309T070000
END:DAYLIGHT
BEGIN:STANDARD
TZOFFSETFROM:-0400
TZOFFSETTO:-0500
TZNAME:EST
DTSTART:20251102T060000
END:STANDARD
END:VTIMEZONE
BEGIN:VEVENT
DTSTART;TZID=America/New_York:20240202T170000
DTEND;TZID=America/New_York:20240202T180000
DTSTAMP:20260422T102030
CREATED:20240116T224858Z
LAST-MODIFIED:20240116T224858Z
UID:2866-1706893200-1706896800@aflouisville.org
SUMMARY:Fête de la Chandeleur
DESCRIPTION:Fête de la Chandeleur  \nFriday\, February 2nd \n5:00 – 6:00 PM \n  \nFree for Members \n($5 non Members) \n  \nWilliams Sonoma (at The Paddock Shops) \n  \nEnjoy delicious crêpes\, with a cooking demonstration and brief history of this French holiday. \n  \nNo registration required.
URL:https://aflouisville.org/event/fete-de-la-chandeleur-2/
LOCATION:KY
CATEGORIES:Cooking Classes,Culture & Holiday
ATTACH;FMTTYPE=image/png:https://aflouisville.org/wp-content/uploads/2024/01/Fete-de-la-chandeleur-Thumbnail-Image.png
END:VEVENT
BEGIN:VEVENT
DTSTART;TZID=America/New_York:20240204T160000
DTEND;TZID=America/New_York:20240204T170000
DTSTAMP:20260422T102030
CREATED:20240125T224158Z
LAST-MODIFIED:20240125T224605Z
UID:2916-1707062400-1707066000@aflouisville.org
SUMMARY:Conversation Group
DESCRIPTION:French Conversation Group\nSundays 4-5pm at Awry Brewery \n  \nInformal French conversation group that will meet Sundays\, 4-5pm at Awry Brewery\, beginning January 21st. Lead by native French speaker\, Myriam Mattsson\, these meetings are free for all AFL members and no registration is required. \nNot yet a member? Learn more about AFL Membership or reach out to afschool@bellsouth.net for more info. \nDiscussion Topics:\nDiscussion topics will be available here\, the week prior! Not necessary to prepare\, but for those interested.
URL:https://aflouisville.org/event/conversation-group-3/
LOCATION:KY
CATEGORIES:Conversation Groups
ATTACH;FMTTYPE=image/png:https://aflouisville.org/wp-content/uploads/2024/01/Conversation-Group-Flyer-Dimanche-Facebook-Cover-2.png
END:VEVENT
BEGIN:VEVENT
DTSTART;TZID=America/New_York:20240218T160000
DTEND;TZID=America/New_York:20240218T170000
DTSTAMP:20260422T102030
CREATED:20240125T224448Z
LAST-MODIFIED:20240125T224448Z
UID:2919-1708272000-1708275600@aflouisville.org
SUMMARY:Conversation Group
DESCRIPTION:French Conversation Group\nSundays 4-5pm at Awry Brewery \n  \nInformal French conversation group that will meet Sundays\, 4-5pm at Awry Brewery\, beginning January 21st. Lead by native French speaker\, Myriam Mattsson\, these meetings are free for all AFL members and no registration is required. \nNot yet a member? Learn more about AFL Membership or reach out to afschool@bellsouth.net for more info. \n  \nDiscussion Topics:\nDiscussion topics will be available here\, the week prior! Not necessary to prepare\, but for those interested.
URL:https://aflouisville.org/event/conversation-group-4/
LOCATION:KY
CATEGORIES:Conversation Groups
ATTACH;FMTTYPE=image/png:https://aflouisville.org/wp-content/uploads/2024/01/Conversation-Group-Flyer-Dimanche-Facebook-Cover-2.png
END:VEVENT
BEGIN:VEVENT
DTSTART;TZID=America/New_York:20240218T173000
DTEND;TZID=America/New_York:20240218T183000
DTSTAMP:20260422T102030
CREATED:20240119T020658Z
LAST-MODIFIED:20240215T033310Z
UID:2884-1708277400-1708281000@aflouisville.org
SUMMARY:French Wine Tasting
DESCRIPTION:FRENCH WINE TASTING  AFL Member Special Event  \nSunday\, February 18th 5:30 – 6:30 PM | The Wine Rack – 2632 Frankfort Ave\, Louisville\, KY 40206 \nREGISTRATION CLOSED
URL:https://aflouisville.org/event/french-wine-tasting/
LOCATION:The Wine Rack\, 2632 Frankfort Ave\, Louisville\, KY\, 40206\, United States
CATEGORIES:Wine
ATTACH;FMTTYPE=image/png:https://aflouisville.org/wp-content/uploads/2024/01/Wine-Tasting-February-18-Calendar-Image-1.png
END:VEVENT
BEGIN:VEVENT
DTSTART;TZID=America/New_York:20240225T160000
DTEND;TZID=America/New_York:20240225T170000
DTSTAMP:20260422T102030
CREATED:20240125T224825Z
LAST-MODIFIED:20240125T224825Z
UID:2923-1708876800-1708880400@aflouisville.org
SUMMARY:Conversation Group
DESCRIPTION:French Conversation Group\nSundays 4-5pm at Awry Brewery \n  \nInformal French conversation group that will meet Sundays\, 4-5pm at Awry Brewery\, beginning January 21st. Lead by native French speaker\, Myriam Mattsson\, these meetings are free for all AFL members and no registration is required. \nNot yet a member? Learn more about AFL Membership or reach out to afschool@bellsouth.net for more info. \n  \nDiscussion Topics:\nDiscussion topics will be available here\, the week prior! Not necessary to prepare\, but for those interested.
URL:https://aflouisville.org/event/conversation-group-5/
LOCATION:KY
CATEGORIES:Conversation Groups
ATTACH;FMTTYPE=image/png:https://aflouisville.org/wp-content/uploads/2024/01/Conversation-Group-Flyer-Dimanche-Facebook-Cover-2.png
END:VEVENT
END:VCALENDAR